BEGIN:VCALENDAR
VERSION:2.0
PRODID:-//Harston Parish Council - ECPv6.15.20//NONSGML v1.0//EN
CALSCALE:GREGORIAN
METHOD:PUBLISH
X-ORIGINAL-URL:https://harstonparishcouncil.gov.uk
X-WR-CALDESC:Events for Harston Parish Council
REFRESH-INTERVAL;VALUE=DURATION:PT1H
X-Robots-Tag:noindex
X-PUBLISHED-TTL:PT1H
BEGIN:VTIMEZONE
TZID:Europe/London
BEGIN:DAYLIGHT
TZOFFSETFROM:+0000
TZOFFSETTO:+0100
TZNAME:BST
DTSTART:20240331T010000
END:DAYLIGHT
BEGIN:STANDARD
TZOFFSETFROM:+0100
TZOFFSETTO:+0000
TZNAME:GMT
DTSTART:20241027T010000
END:STANDARD
BEGIN:DAYLIGHT
TZOFFSETFROM:+0000
TZOFFSETTO:+0100
TZNAME:BST
DTSTART:20250330T010000
END:DAYLIGHT
BEGIN:STANDARD
TZOFFSETFROM:+0100
TZOFFSETTO:+0000
TZNAME:GMT
DTSTART:20251026T010000
END:STANDARD
BEGIN:DAYLIGHT
TZOFFSETFROM:+0000
TZOFFSETTO:+0100
TZNAME:BST
DTSTART:20260329T010000
END:DAYLIGHT
BEGIN:STANDARD
TZOFFSETFROM:+0100
TZOFFSETTO:+0000
TZNAME:GMT
DTSTART:20261025T010000
END:STANDARD
END:VTIMEZONE
BEGIN:VEVENT
DTSTART;TZID=Europe/London:20250403T190000
DTEND;TZID=Europe/London:20250403T190000
DTSTAMP:20260424T170237
CREATED:20250328T100624Z
LAST-MODIFIED:20250328T110820Z
UID:6417-1743706800-1743706800@harstonparishcouncil.gov.uk
SUMMARY:Finance Committee Meeting
DESCRIPTION:
URL:https://harstonparishcouncil.gov.uk/event/finance-committee-meeting-35
LOCATION:Harston Village Hall\, 20 High Street\, Harston\, CB22 7PX\, United Kingdom
CATEGORIES:Parish Council Meetings
END:VEVENT
BEGIN:VEVENT
DTSTART;TZID=Europe/London:20250403T190000
DTEND;TZID=Europe/London:20250403T190000
DTSTAMP:20260424T170237
CREATED:20250328T111002Z
LAST-MODIFIED:20250512T085336Z
UID:6425-1743706800-1743706800@harstonparishcouncil.gov.uk
SUMMARY:Finance Committee Meeting
DESCRIPTION:
URL:https://harstonparishcouncil.gov.uk/event/finance-committee-meeting-36
LOCATION:Harston Village Hall\, 20 High Street\, Harston\, CB22 7PX\, United Kingdom
CATEGORIES:Parish Council Meetings
END:VEVENT
BEGIN:VEVENT
DTSTART;TZID=Europe/London:20250403T193000
DTEND;TZID=Europe/London:20250403T193000
DTSTAMP:20260424T170237
CREATED:20250328T111213Z
LAST-MODIFIED:20250512T085417Z
UID:6429-1743708600-1743708600@harstonparishcouncil.gov.uk
SUMMARY:Parish Council Meeting
DESCRIPTION:This meeting will be held in the Village Hall. Members of the public are welcome to attend; please see the agenda for more details.
URL:https://harstonparishcouncil.gov.uk/event/parish-council-meeting-26
LOCATION:Harston Village Hall\, 20 High Street\, Harston\, CB22 7PX\, United Kingdom
CATEGORIES:Parish Council Meetings
END:VEVENT
END:VCALENDAR