BEGIN:VCALENDAR
VERSION:2.0
PRODID:-//Harston Parish Council - ECPv6.15.20//NONSGML v1.0//EN
CALSCALE:GREGORIAN
METHOD:PUBLISH
X-WR-CALNAME:Harston Parish Council
X-ORIGINAL-URL:https://harstonparishcouncil.gov.uk
X-WR-CALDESC:Events for Harston Parish Council
REFRESH-INTERVAL;VALUE=DURATION:PT1H
X-Robots-Tag:noindex
X-PUBLISHED-TTL:PT1H
BEGIN:VTIMEZONE
TZID:Europe/London
BEGIN:DAYLIGHT
TZOFFSETFROM:+0000
TZOFFSETTO:+0100
TZNAME:BST
DTSTART:20250330T010000
END:DAYLIGHT
BEGIN:STANDARD
TZOFFSETFROM:+0100
TZOFFSETTO:+0000
TZNAME:GMT
DTSTART:20251026T010000
END:STANDARD
BEGIN:DAYLIGHT
TZOFFSETFROM:+0000
TZOFFSETTO:+0100
TZNAME:BST
DTSTART:20260329T010000
END:DAYLIGHT
BEGIN:STANDARD
TZOFFSETFROM:+0100
TZOFFSETTO:+0000
TZNAME:GMT
DTSTART:20261025T010000
END:STANDARD
BEGIN:DAYLIGHT
TZOFFSETFROM:+0000
TZOFFSETTO:+0100
TZNAME:BST
DTSTART:20270328T010000
END:DAYLIGHT
BEGIN:STANDARD
TZOFFSETFROM:+0100
TZOFFSETTO:+0000
TZNAME:GMT
DTSTART:20271031T010000
END:STANDARD
END:VTIMEZONE
BEGIN:VEVENT
DTSTART;TZID=Europe/London:20260205T190000
DTEND;TZID=Europe/London:20260205T190000
DTSTAMP:20260417T170418
CREATED:20260130T171532Z
LAST-MODIFIED:20260306T101504Z
UID:7222-1770318000-1770318000@harstonparishcouncil.gov.uk
SUMMARY:Finance Committee Meeting
DESCRIPTION:Members of the public are welcome to attend; please see the agenda for more details.
URL:https://harstonparishcouncil.gov.uk/event/finance-committee-meeting-45
LOCATION:Harston Village Hall\, 20 High Street\, Harston\, CB22 7PX\, United Kingdom
CATEGORIES:Parish Council Meetings
END:VEVENT
BEGIN:VEVENT
DTSTART;TZID=Europe/London:20260205T193000
DTEND;TZID=Europe/London:20260205T193000
DTSTAMP:20260417T170418
CREATED:20260130T171433Z
LAST-MODIFIED:20260306T101548Z
UID:7219-1770319800-1770319800@harstonparishcouncil.gov.uk
SUMMARY:Parish Council Meeting
DESCRIPTION:Members of the public are welcome to attend; please see the agenda for more details.
URL:https://harstonparishcouncil.gov.uk/event/parish-council-meeting-37
LOCATION:Harston Village Hall\, 20 High Street\, Harston\, CB22 7PX\, United Kingdom
CATEGORIES:Parish Council Meetings
END:VEVENT
END:VCALENDAR