BEGIN:VCALENDAR
VERSION:2.0
PRODID:-//Harston Parish Council - ECPv6.15.20//NONSGML v1.0//EN
CALSCALE:GREGORIAN
METHOD:PUBLISH
X-ORIGINAL-URL:https://harstonparishcouncil.gov.uk
X-WR-CALDESC:Events for Harston Parish Council
REFRESH-INTERVAL;VALUE=DURATION:PT1H
X-Robots-Tag:noindex
X-PUBLISHED-TTL:PT1H
BEGIN:VTIMEZONE
TZID:Europe/London
BEGIN:DAYLIGHT
TZOFFSETFROM:+0000
TZOFFSETTO:+0100
TZNAME:BST
DTSTART:20230326T010000
END:DAYLIGHT
BEGIN:STANDARD
TZOFFSETFROM:+0100
TZOFFSETTO:+0000
TZNAME:GMT
DTSTART:20231029T010000
END:STANDARD
BEGIN:DAYLIGHT
TZOFFSETFROM:+0000
TZOFFSETTO:+0100
TZNAME:BST
DTSTART:20240331T010000
END:DAYLIGHT
BEGIN:STANDARD
TZOFFSETFROM:+0100
TZOFFSETTO:+0000
TZNAME:GMT
DTSTART:20241027T010000
END:STANDARD
BEGIN:DAYLIGHT
TZOFFSETFROM:+0000
TZOFFSETTO:+0100
TZNAME:BST
DTSTART:20250330T010000
END:DAYLIGHT
BEGIN:STANDARD
TZOFFSETFROM:+0100
TZOFFSETTO:+0000
TZNAME:GMT
DTSTART:20251026T010000
END:STANDARD
END:VTIMEZONE
BEGIN:VEVENT
DTSTART;TZID=Europe/London:20241109T130000
DTEND;TZID=Europe/London:20241109T150000
DTSTAMP:20260422T200139
CREATED:20241011T110918Z
LAST-MODIFIED:20241011T110919Z
UID:5898-1731157200-1731164400@harstonparishcouncil.gov.uk
SUMMARY:Coffee With a COP
DESCRIPTION:CCC Coffee with a cop poster
URL:https://harstonparishcouncil.gov.uk/event/coffee-with-a-cop
LOCATION:Harston Village Hall\, 20 High Street\, Harston\, CB22 7PX\, United Kingdom
CATEGORIES:Local Events
END:VEVENT
END:VCALENDAR