BEGIN:VCALENDAR
VERSION:2.0
PRODID:-//Harston Parish Council - ECPv6.15.20//NONSGML v1.0//EN
CALSCALE:GREGORIAN
METHOD:PUBLISH
X-ORIGINAL-URL:https://harstonparishcouncil.gov.uk
X-WR-CALDESC:Events for Harston Parish Council
REFRESH-INTERVAL;VALUE=DURATION:PT1H
X-Robots-Tag:noindex
X-PUBLISHED-TTL:PT1H
BEGIN:VTIMEZONE
TZID:Europe/London
BEGIN:DAYLIGHT
TZOFFSETFROM:+0000
TZOFFSETTO:+0100
TZNAME:BST
DTSTART:20240331T010000
END:DAYLIGHT
BEGIN:STANDARD
TZOFFSETFROM:+0100
TZOFFSETTO:+0000
TZNAME:GMT
DTSTART:20241027T010000
END:STANDARD
BEGIN:DAYLIGHT
TZOFFSETFROM:+0000
TZOFFSETTO:+0100
TZNAME:BST
DTSTART:20250330T010000
END:DAYLIGHT
BEGIN:STANDARD
TZOFFSETFROM:+0100
TZOFFSETTO:+0000
TZNAME:GMT
DTSTART:20251026T010000
END:STANDARD
BEGIN:DAYLIGHT
TZOFFSETFROM:+0000
TZOFFSETTO:+0100
TZNAME:BST
DTSTART:20260329T010000
END:DAYLIGHT
BEGIN:STANDARD
TZOFFSETFROM:+0100
TZOFFSETTO:+0000
TZNAME:GMT
DTSTART:20261025T010000
END:STANDARD
BEGIN:DAYLIGHT
TZOFFSETFROM:+0000
TZOFFSETTO:+0100
TZNAME:BST
DTSTART:20270328T010000
END:DAYLIGHT
BEGIN:STANDARD
TZOFFSETFROM:+0100
TZOFFSETTO:+0000
TZNAME:GMT
DTSTART:20271031T010000
END:STANDARD
END:VTIMEZONE
BEGIN:VEVENT
DTSTART;TZID=Europe/London:20260416T190000
DTEND;TZID=Europe/London:20260416T190000
DTSTAMP:20260420T071924
CREATED:20260410T140600Z
LAST-MODIFIED:20260410T140600Z
UID:7420-1776366000-1776366000@harstonparishcouncil.gov.uk
SUMMARY:Planning Committee Meeting
DESCRIPTION:
URL:https://harstonparishcouncil.gov.uk/event/planning-committee-meeting-16
LOCATION:Harston Village Hall\, 20 High Street\, Harston\, CB22 7PX\, United Kingdom
CATEGORIES:Parish Council Meetings
END:VEVENT
BEGIN:VEVENT
DTSTART;TZID=Europe/London:20260416T180000
DTEND;TZID=Europe/London:20260416T180000
DTSTAMP:20260420T071924
CREATED:20260325T123737Z
LAST-MODIFIED:20260325T123737Z
UID:7354-1776362400-1776362400@harstonparishcouncil.gov.uk
SUMMARY:Annual Parish Meeting
DESCRIPTION:
URL:https://harstonparishcouncil.gov.uk/event/annual-parish-meeting-5
LOCATION:Harston Village Hall\, 20 High Street\, Harston\, CB22 7PX\, United Kingdom
CATEGORIES:Parish Council Meetings
END:VEVENT
BEGIN:VEVENT
DTSTART;TZID=Europe/London:20260402T193000
DTEND;TZID=Europe/London:20260402T193000
DTSTAMP:20260420T071924
CREATED:20260327T143825Z
LAST-MODIFIED:20260410T122044Z
UID:7360-1775158200-1775158200@harstonparishcouncil.gov.uk
SUMMARY:Parish Council Meeting
DESCRIPTION:Members of the public are welcome to attend; please see the agenda for more details.
URL:https://harstonparishcouncil.gov.uk/event/parish-council-meeting-39
LOCATION:Harston Village Hall\, 20 High Street\, Harston\, CB22 7PX\, United Kingdom
CATEGORIES:Parish Council Meetings
END:VEVENT
BEGIN:VEVENT
DTSTART;TZID=Europe/London:20260402T190000
DTEND;TZID=Europe/London:20260402T190000
DTSTAMP:20260420T071924
CREATED:20260327T144315Z
LAST-MODIFIED:20260329T154414Z
UID:7363-1775156400-1775156400@harstonparishcouncil.gov.uk
SUMMARY:Finance Committee meeting
DESCRIPTION:Members of the public are welcome to attend; please see the agenda for more details.
URL:https://harstonparishcouncil.gov.uk/event/finance-committee-meeting-47
LOCATION:Harston Village Hall\, 20 High Street\, Harston\, CB22 7PX\, United Kingdom
CATEGORIES:Parish Council Meetings
END:VEVENT
BEGIN:VEVENT
DTSTART;TZID=Europe/London:20260319T183000
DTEND;TZID=Europe/London:20260319T183000
DTSTAMP:20260420T071924
CREATED:20260313T154844Z
LAST-MODIFIED:20260417T122609Z
UID:7328-1773945000-1773945000@harstonparishcouncil.gov.uk
SUMMARY:Planning Committee Meeting
DESCRIPTION:
URL:https://harstonparishcouncil.gov.uk/event/planning-committee-meeting-15
LOCATION:Harston Village Hall\, 20 High Street\, Harston\, CB22 7PX\, United Kingdom
CATEGORIES:Parish Council Meetings
END:VEVENT
BEGIN:VEVENT
DTSTART;TZID=Europe/London:20260305T193000
DTEND;TZID=Europe/London:20260305T193000
DTSTAMP:20260420T071924
CREATED:20260227T135446Z
LAST-MODIFIED:20260416T182928Z
UID:7278-1772739000-1772739000@harstonparishcouncil.gov.uk
SUMMARY:Parish Council Meeting
DESCRIPTION:Members of the public are welcome to attend; please see the agenda for more details.
URL:https://harstonparishcouncil.gov.uk/event/parish-council-meeting-38
LOCATION:Harston Village Hall\, 20 High Street\, Harston\, CB22 7PX\, United Kingdom
CATEGORIES:Parish Council Meetings
END:VEVENT
BEGIN:VEVENT
DTSTART;TZID=Europe/London:20260305T190000
DTEND;TZID=Europe/London:20260305T190000
DTSTAMP:20260420T071924
CREATED:20260227T135607Z
LAST-MODIFIED:20260407T080430Z
UID:7281-1772737200-1772737200@harstonparishcouncil.gov.uk
SUMMARY:Finance Committee Meeting
DESCRIPTION:Members of the public are welcome to attend; please see the agenda for more details.
URL:https://harstonparishcouncil.gov.uk/event/finance-committee-meeting-46
LOCATION:Harston Village Hall\, 20 High Street\, Harston\, CB22 7PX\, United Kingdom
CATEGORIES:Parish Council Meetings
END:VEVENT
BEGIN:VEVENT
DTSTART;TZID=Europe/London:20260219T180000
DTEND;TZID=Europe/London:20260219T180000
DTSTAMP:20260420T071924
CREATED:20260213T145258Z
LAST-MODIFIED:20260323T073204Z
UID:7261-1771524000-1771524000@harstonparishcouncil.gov.uk
SUMMARY:Planning Committee Meeting
DESCRIPTION:
URL:https://harstonparishcouncil.gov.uk/event/planning-committee-meeting-14
LOCATION:Harston Village Hall\, 20 High Street\, Harston\, CB22 7PX\, United Kingdom
CATEGORIES:Parish Council Meetings
END:VEVENT
BEGIN:VEVENT
DTSTART;TZID=Europe/London:20260205T193000
DTEND;TZID=Europe/London:20260205T193000
DTSTAMP:20260420T071924
CREATED:20260130T171433Z
LAST-MODIFIED:20260306T101548Z
UID:7219-1770319800-1770319800@harstonparishcouncil.gov.uk
SUMMARY:Parish Council Meeting
DESCRIPTION:Members of the public are welcome to attend; please see the agenda for more details.
URL:https://harstonparishcouncil.gov.uk/event/parish-council-meeting-37
LOCATION:Harston Village Hall\, 20 High Street\, Harston\, CB22 7PX\, United Kingdom
CATEGORIES:Parish Council Meetings
END:VEVENT
BEGIN:VEVENT
DTSTART;TZID=Europe/London:20260205T190000
DTEND;TZID=Europe/London:20260205T190000
DTSTAMP:20260420T071924
CREATED:20260130T171532Z
LAST-MODIFIED:20260306T101504Z
UID:7222-1770318000-1770318000@harstonparishcouncil.gov.uk
SUMMARY:Finance Committee Meeting
DESCRIPTION:Members of the public are welcome to attend; please see the agenda for more details.
URL:https://harstonparishcouncil.gov.uk/event/finance-committee-meeting-45
LOCATION:Harston Village Hall\, 20 High Street\, Harston\, CB22 7PX\, United Kingdom
CATEGORIES:Parish Council Meetings
END:VEVENT
BEGIN:VEVENT
DTSTART;TZID=Europe/London:20260115T190000
DTEND;TZID=Europe/London:20260115T190000
DTSTAMP:20260420T071924
CREATED:20260110T101923Z
LAST-MODIFIED:20260224T131941Z
UID:7172-1768503600-1768503600@harstonparishcouncil.gov.uk
SUMMARY:Planning Committee Meeting
DESCRIPTION:
URL:https://harstonparishcouncil.gov.uk/event/planning-committee-meeting-13
LOCATION:Harston Village Hall\, 20 High Street\, Harston\, CB22 7PX\, United Kingdom
CATEGORIES:Parish Council Meetings
END:VEVENT
BEGIN:VEVENT
DTSTART;TZID=Europe/London:20260108T193000
DTEND;TZID=Europe/London:20260108T193000
DTSTAMP:20260420T071924
CREATED:20251223T115827Z
LAST-MODIFIED:20260212T092203Z
UID:7131-1767900600-1767900600@harstonparishcouncil.gov.uk
SUMMARY:Parish Council Meeting
DESCRIPTION:Members of the public are welcome to attend; please see the agenda for more details.
URL:https://harstonparishcouncil.gov.uk/event/parish-council-meeting-36
LOCATION:Harston Village Hall\, 20 High Street\, Harston\, CB22 7PX\, United Kingdom
CATEGORIES:Parish Council Meetings
END:VEVENT
BEGIN:VEVENT
DTSTART;TZID=Europe/London:20260108T190000
DTEND;TZID=Europe/London:20260108T190000
DTSTAMP:20260420T071924
CREATED:20251223T115749Z
LAST-MODIFIED:20260212T092245Z
UID:7128-1767898800-1767898800@harstonparishcouncil.gov.uk
SUMMARY:Finance Committee Meeting
DESCRIPTION:Members of the public are welcome to attend; please see the agenda for more details.
URL:https://harstonparishcouncil.gov.uk/event/finance-committee-meeting-44
LOCATION:Harston Village Hall\, 20 High Street\, Harston\, CB22 7PX\, United Kingdom
CATEGORIES:Parish Council Meetings
END:VEVENT
BEGIN:VEVENT
DTSTART;TZID=Europe/London:20251218T173000
DTEND;TZID=Europe/London:20251218T173000
DTSTAMP:20260420T071924
CREATED:20251212T112907Z
LAST-MODIFIED:20260119T074019Z
UID:7079-1766079000-1766079000@harstonparishcouncil.gov.uk
SUMMARY:Planning Committee Meeting
DESCRIPTION:
URL:https://harstonparishcouncil.gov.uk/event/planning-committee-meeting-12
LOCATION:Harston Village Hall\, 20 High Street\, Harston\, CB22 7PX\, United Kingdom
CATEGORIES:Parish Council Meetings
END:VEVENT
BEGIN:VEVENT
DTSTART;TZID=Europe/London:20251204T193000
DTEND;TZID=Europe/London:20251204T193000
DTSTAMP:20260420T071924
CREATED:20251128T145017Z
LAST-MODIFIED:20260108T202054Z
UID:7041-1764876600-1764876600@harstonparishcouncil.gov.uk
SUMMARY:Parish Council Meeting
DESCRIPTION:Members of the public are welcome to attend; please see the agenda for more details.
URL:https://harstonparishcouncil.gov.uk/event/parish-council-meeting-35
LOCATION:Harston Village Hall\, 20 High Street\, Harston\, CB22 7PX\, United Kingdom
CATEGORIES:Parish Council Meetings
END:VEVENT
BEGIN:VEVENT
DTSTART;TZID=Europe/London:20251204T190000
DTEND;TZID=Europe/London:20251204T190000
DTSTAMP:20260420T071924
CREATED:20251128T144940Z
LAST-MODIFIED:20260302T115537Z
UID:7038-1764874800-1764874800@harstonparishcouncil.gov.uk
SUMMARY:Finance Committee Meeting
DESCRIPTION:Members of the public are welcome to attend; please see the agenda for more details.
URL:https://harstonparishcouncil.gov.uk/event/finance-committee-meeting-43
LOCATION:Harston Village Hall\, 20 High Street\, Harston\, CB22 7PX\, United Kingdom
CATEGORIES:Parish Council Meetings
END:VEVENT
BEGIN:VEVENT
DTSTART;TZID=Europe/London:20251120T190000
DTEND;TZID=Europe/London:20251120T190000
DTSTAMP:20260420T071924
CREATED:20251114T150447Z
LAST-MODIFIED:20251223T093654Z
UID:6973-1763665200-1763665200@harstonparishcouncil.gov.uk
SUMMARY:Planning Committee Meeting
DESCRIPTION:
URL:https://harstonparishcouncil.gov.uk/event/planning-committee-meeting-11
LOCATION:Harston Village Hall\, 20 High Street\, Harston\, CB22 7PX\, United Kingdom
CATEGORIES:Parish Council Meetings
END:VEVENT
BEGIN:VEVENT
DTSTART;TZID=Europe/London:20251106T193000
DTEND;TZID=Europe/London:20251106T193000
DTSTAMP:20260420T071924
CREATED:20251031T202025Z
LAST-MODIFIED:20251215T141336Z
UID:6928-1762457400-1762457400@harstonparishcouncil.gov.uk
SUMMARY:Parish Council Meeting
DESCRIPTION:Members of the public are welcome to attend; please see the agenda for more details.
URL:https://harstonparishcouncil.gov.uk/event/parish-council-meeting-34
LOCATION:Harston Village Hall\, 20 High Street\, Harston\, CB22 7PX\, United Kingdom
CATEGORIES:Parish Council Meetings
END:VEVENT
BEGIN:VEVENT
DTSTART;TZID=Europe/London:20251106T190000
DTEND;TZID=Europe/London:20251106T190000
DTSTAMP:20260420T071924
CREATED:20251031T201947Z
LAST-MODIFIED:20251215T141415Z
UID:6925-1762455600-1762455600@harstonparishcouncil.gov.uk
SUMMARY:Finance Committee Meeting
DESCRIPTION:Members of the public are welcome to attend; please see the agenda for more details.
URL:https://harstonparishcouncil.gov.uk/event/finance-committee-meeting-42
LOCATION:Harston Village Hall\, 20 High Street\, Harston\, CB22 7PX\, United Kingdom
CATEGORIES:Parish Council Meetings
END:VEVENT
BEGIN:VEVENT
DTSTART;TZID=Europe/London:20251016T190000
DTEND;TZID=Europe/London:20251016T190000
DTSTAMP:20260420T071924
CREATED:20251010T135934Z
LAST-MODIFIED:20251215T141651Z
UID:6887-1760641200-1760641200@harstonparishcouncil.gov.uk
SUMMARY:Planning Committee Meeting
DESCRIPTION:
URL:https://harstonparishcouncil.gov.uk/event/planning-committee-meeting-10
LOCATION:Harston Village Hall\, 20 High Street\, Harston\, CB22 7PX\, United Kingdom
CATEGORIES:Parish Council Meetings
END:VEVENT
BEGIN:VEVENT
DTSTART;TZID=Europe/London:20251016T184500
DTEND;TZID=Europe/London:20251016T184500
DTSTAMP:20260420T071924
CREATED:20251010T135655Z
LAST-MODIFIED:20251110T100636Z
UID:6884-1760640300-1760640300@harstonparishcouncil.gov.uk
SUMMARY:Extraordinary Parish Council Meeting
DESCRIPTION:Members of the public are welcome to attend; please see the agenda for more details.
URL:https://harstonparishcouncil.gov.uk/event/extraordinary-parish-council-meeting-2
LOCATION:Harston Village Hall\, 20 High Street\, Harston\, CB22 7PX\, United Kingdom
CATEGORIES:Parish Council Meetings
END:VEVENT
BEGIN:VEVENT
DTSTART;TZID=Europe/London:20251002T193000
DTEND;TZID=Europe/London:20251002T193000
DTSTAMP:20260420T071924
CREATED:20250925T133302Z
LAST-MODIFIED:20251110T092637Z
UID:6846-1759433400-1759433400@harstonparishcouncil.gov.uk
SUMMARY:Parish Council Meeting
DESCRIPTION:Members of the public are welcome to attend; please see the agenda for more details.
URL:https://harstonparishcouncil.gov.uk/event/parish-council-meeting-33
LOCATION:Harston Village Hall\, 20 High Street\, Harston\, CB22 7PX\, United Kingdom
CATEGORIES:Parish Council Meetings
END:VEVENT
BEGIN:VEVENT
DTSTART;TZID=Europe/London:20251002T190000
DTEND;TZID=Europe/London:20251002T190000
DTSTAMP:20260420T071924
CREATED:20250925T133411Z
LAST-MODIFIED:20251110T092506Z
UID:6849-1759431600-1759431600@harstonparishcouncil.gov.uk
SUMMARY:Finance Committee Meeting
DESCRIPTION:Members of the public are welcome to attend; please see the agenda for more details.
URL:https://harstonparishcouncil.gov.uk/event/finance-committee-meeting-41
LOCATION:Harston Village Hall\, 20 High Street\, Harston\, CB22 7PX\, United Kingdom
CATEGORIES:Parish Council Meetings
END:VEVENT
BEGIN:VEVENT
DTSTART;TZID=Europe/London:20250918T190000
DTEND;TZID=Europe/London:20250918T190000
DTSTAMP:20260420T071924
CREATED:20250912T140301Z
LAST-MODIFIED:20251215T141526Z
UID:6790-1758222000-1758222000@harstonparishcouncil.gov.uk
SUMMARY:Planning Committee Meeting
DESCRIPTION:
URL:https://harstonparishcouncil.gov.uk/event/planning-committee-meeting-9
LOCATION:Harston Village Hall\, 20 High Street\, Harston\, CB22 7PX\, United Kingdom
CATEGORIES:Parish Council Meetings
END:VEVENT
BEGIN:VEVENT
DTSTART;TZID=Europe/London:20250918T184500
DTEND;TZID=Europe/London:20250918T184500
DTSTAMP:20260420T071924
CREATED:20250912T134923Z
LAST-MODIFIED:20251006T085321Z
UID:6788-1758221100-1758221100@harstonparishcouncil.gov.uk
SUMMARY:Extraordinary Parish Council Meeting
DESCRIPTION:Members of the public are welcome to attend; please see the agenda for more details.
URL:https://harstonparishcouncil.gov.uk/event/extraordinary-parish-council-meeting
LOCATION:Harston Village Hall\, 20 High Street\, Harston\, CB22 7PX\, United Kingdom
CATEGORIES:Parish Council Meetings
END:VEVENT
BEGIN:VEVENT
DTSTART;TZID=Europe/London:20250904T193000
DTEND;TZID=Europe/London:20250904T193000
DTSTAMP:20260420T071924
CREATED:20250828T111635Z
LAST-MODIFIED:20251006T085233Z
UID:6737-1757014200-1757014200@harstonparishcouncil.gov.uk
SUMMARY:Parish Council Meeting
DESCRIPTION:Members of the public are welcome to attend; please see the agenda for more details.
URL:https://harstonparishcouncil.gov.uk/event/parish-council-meeting-32
LOCATION:Community Centre Meadow Way
CATEGORIES:Parish Council Meetings
END:VEVENT
BEGIN:VEVENT
DTSTART;TZID=Europe/London:20250904T190000
DTEND;TZID=Europe/London:20250904T190000
DTSTAMP:20260420T071924
CREATED:20250828T111721Z
LAST-MODIFIED:20251006T085132Z
UID:6740-1757012400-1757012400@harstonparishcouncil.gov.uk
SUMMARY:Finance Committee Meeting
DESCRIPTION:Members of the public are welcome to attend; please see the agenda for more details.
URL:https://harstonparishcouncil.gov.uk/event/finance-committee-meeting-40
LOCATION:Community Centre Meadow Way
CATEGORIES:Parish Council Meetings
END:VEVENT
BEGIN:VEVENT
DTSTART;TZID=Europe/London:20250807T193000
DTEND;TZID=Europe/London:20250807T193000
DTSTAMP:20260420T071924
CREATED:20250801T140013Z
LAST-MODIFIED:20251006T084911Z
UID:6688-1754595000-1754595000@harstonparishcouncil.gov.uk
SUMMARY:Parish Council Meeting
DESCRIPTION:Members of the public are welcome to attend; please see the agenda for more details.
URL:https://harstonparishcouncil.gov.uk/event/parish-council-meeting-31
LOCATION:Harston Village Hall\, 20 High Street\, Harston\, CB22 7PX\, United Kingdom
CATEGORIES:Parish Council Meetings
END:VEVENT
BEGIN:VEVENT
DTSTART;TZID=Europe/London:20250807T190000
DTEND;TZID=Europe/London:20250807T190000
DTSTAMP:20260420T071924
CREATED:20250801T135648Z
LAST-MODIFIED:20250908T120827Z
UID:6682-1754593200-1754593200@harstonparishcouncil.gov.uk
SUMMARY:Finance Committee Meeting
DESCRIPTION:Members of the public are welcome to attend; please see the agenda for more details.
URL:https://harstonparishcouncil.gov.uk/event/parish-council-meeting-30
LOCATION:Harston Village Hall\, 20 High Street\, Harston\, CB22 7PX\, United Kingdom
CATEGORIES:Parish Council Meetings
END:VEVENT
BEGIN:VEVENT
DTSTART;TZID=Europe/London:20250717T190000
DTEND;TZID=Europe/London:20250717T190000
DTSTAMP:20260420T071924
CREATED:20250711T131033Z
LAST-MODIFIED:20250811T102137Z
UID:6641-1752778800-1752778800@harstonparishcouncil.gov.uk
SUMMARY:Planning Committee Meeting
DESCRIPTION:
URL:https://harstonparishcouncil.gov.uk/event/planning-committee-meeting-8
LOCATION:Harston Village Hall\, 20 High Street\, Harston\, CB22 7PX\, United Kingdom
CATEGORIES:Parish Council Meetings
END:VEVENT
END:VCALENDAR