BEGIN:VCALENDAR
VERSION:2.0
PRODID:-//Harston Parish Council - ECPv6.15.20//NONSGML v1.0//EN
CALSCALE:GREGORIAN
METHOD:PUBLISH
X-WR-CALNAME:Harston Parish Council
X-ORIGINAL-URL:https://harstonparishcouncil.gov.uk
X-WR-CALDESC:Events for Harston Parish Council
REFRESH-INTERVAL;VALUE=DURATION:PT1H
X-Robots-Tag:noindex
X-PUBLISHED-TTL:PT1H
BEGIN:VTIMEZONE
TZID:Europe/London
BEGIN:DAYLIGHT
TZOFFSETFROM:+0000
TZOFFSETTO:+0100
TZNAME:BST
DTSTART:20220327T010000
END:DAYLIGHT
BEGIN:STANDARD
TZOFFSETFROM:+0100
TZOFFSETTO:+0000
TZNAME:GMT
DTSTART:20221030T010000
END:STANDARD
BEGIN:DAYLIGHT
TZOFFSETFROM:+0000
TZOFFSETTO:+0100
TZNAME:BST
DTSTART:20230326T010000
END:DAYLIGHT
BEGIN:STANDARD
TZOFFSETFROM:+0100
TZOFFSETTO:+0000
TZNAME:GMT
DTSTART:20231029T010000
END:STANDARD
BEGIN:DAYLIGHT
TZOFFSETFROM:+0000
TZOFFSETTO:+0100
TZNAME:BST
DTSTART:20240331T010000
END:DAYLIGHT
BEGIN:STANDARD
TZOFFSETFROM:+0100
TZOFFSETTO:+0000
TZNAME:GMT
DTSTART:20241027T010000
END:STANDARD
BEGIN:DAYLIGHT
TZOFFSETFROM:+0000
TZOFFSETTO:+0100
TZNAME:BST
DTSTART:20250330T010000
END:DAYLIGHT
BEGIN:STANDARD
TZOFFSETFROM:+0100
TZOFFSETTO:+0000
TZNAME:GMT
DTSTART:20251026T010000
END:STANDARD
END:VTIMEZONE
BEGIN:VEVENT
DTSTART;TZID=Europe/London:20240104T190000
DTEND;TZID=Europe/London:20240104T190000
DTSTAMP:20260425T013909
CREATED:20231222T135338Z
LAST-MODIFIED:20240205T135622Z
UID:4455-1704394800-1704394800@harstonparishcouncil.gov.uk
SUMMARY:Finance Committee Meeting
DESCRIPTION:
URL:https://harstonparishcouncil.gov.uk/event/finance-committee-meeting-24
LOCATION:Harston Village Hall\, 20 High Street\, Harston\, CB22 7PX\, United Kingdom
CATEGORIES:Parish Council Meetings
END:VEVENT
BEGIN:VEVENT
DTSTART;TZID=Europe/London:20231207T193000
DTEND;TZID=Europe/London:20231207T193000
DTSTAMP:20260425T013909
CREATED:20231202T143417Z
LAST-MODIFIED:20240110T120003Z
UID:4393-1701977400-1701977400@harstonparishcouncil.gov.uk
SUMMARY:Parish Council Meeting
DESCRIPTION:This meeting will be held in the Village Hall. Members of the public are welcome to attend; please see the agenda for more details.
URL:https://harstonparishcouncil.gov.uk/event/parish-council-meeting-15
LOCATION:Harston Village Hall\, 20 High Street\, Harston\, CB22 7PX\, United Kingdom
CATEGORIES:Parish Council Meetings
END:VEVENT
BEGIN:VEVENT
DTSTART;TZID=Europe/London:20231207T190000
DTEND;TZID=Europe/London:20231207T190000
DTSTAMP:20260425T013909
CREATED:20231202T143319Z
LAST-MODIFIED:20240110T120219Z
UID:4390-1701975600-1701975600@harstonparishcouncil.gov.uk
SUMMARY:Finance Committee Meeting
DESCRIPTION:
URL:https://harstonparishcouncil.gov.uk/event/finance-committee-meeting-23
LOCATION:Harston Village Hall\, 20 High Street\, Harston\, CB22 7PX\, United Kingdom
CATEGORIES:Parish Council Meetings
END:VEVENT
BEGIN:VEVENT
DTSTART;TZID=Europe/London:20231102T193000
DTEND;TZID=Europe/London:20231102T193000
DTSTAMP:20260425T013909
CREATED:20231027T084049Z
LAST-MODIFIED:20231213T135538Z
UID:4348-1698953400-1698953400@harstonparishcouncil.gov.uk
SUMMARY:Parish Council Meeting
DESCRIPTION:This meeting will be held in the Village Hall. Members of the public are welcome to attend; please see the agenda for more details.
URL:https://harstonparishcouncil.gov.uk/event/parish-council-meeting-14
LOCATION:Harston Village Hall\, 20 High Street\, Harston\, CB22 7PX\, United Kingdom
CATEGORIES:Parish Council Meetings
END:VEVENT
BEGIN:VEVENT
DTSTART;TZID=Europe/London:20231102T190000
DTEND;TZID=Europe/London:20231102T190000
DTSTAMP:20260425T013909
CREATED:20231027T084139Z
LAST-MODIFIED:20231213T135429Z
UID:4351-1698951600-1698951600@harstonparishcouncil.gov.uk
SUMMARY:Finance Committee Meeting
DESCRIPTION:
URL:https://harstonparishcouncil.gov.uk/event/finance-committee-meeting-22
LOCATION:Harston Village Hall\, 20 High Street\, Harston\, CB22 7PX\, United Kingdom
CATEGORIES:Parish Council Meetings
END:VEVENT
BEGIN:VEVENT
DTSTART;TZID=Europe/London:20231005T193000
DTEND;TZID=Europe/London:20231005T193000
DTSTAMP:20260425T013909
CREATED:20230929T132233Z
LAST-MODIFIED:20231127T104333Z
UID:4299-1696534200-1696534200@harstonparishcouncil.gov.uk
SUMMARY:Parish Council Meeting
DESCRIPTION:This meeting will be held in the Village Hall. Members of the public are welcome to attend; please see the agenda for more details.
URL:https://harstonparishcouncil.gov.uk/event/parish-council-meeting-13
LOCATION:Harston Village Hall\, 20 High Street\, Harston\, CB22 7PX\, United Kingdom
CATEGORIES:Parish Council Meetings
END:VEVENT
BEGIN:VEVENT
DTSTART;TZID=Europe/London:20231005T190000
DTEND;TZID=Europe/London:20231005T190000
DTSTAMP:20260425T013909
CREATED:20230929T132358Z
LAST-MODIFIED:20231213T135513Z
UID:4302-1696532400-1696532400@harstonparishcouncil.gov.uk
SUMMARY:Finance Committee Meeting
DESCRIPTION:
URL:https://harstonparishcouncil.gov.uk/event/finance-committee-meeting-21
LOCATION:Harston Village Hall\, 20 High Street\, Harston\, CB22 7PX\, United Kingdom
CATEGORIES:Parish Council Meetings
END:VEVENT
BEGIN:VEVENT
DTSTART;TZID=Europe/London:20230907T193000
DTEND;TZID=Europe/London:20230907T193000
DTSTAMP:20260425T013909
CREATED:20230901T110744Z
LAST-MODIFIED:20231011T091224Z
UID:4237-1694115000-1694115000@harstonparishcouncil.gov.uk
SUMMARY:Parish Council Meeting
DESCRIPTION:This meeting will be held in the Village Hall. Members of the public are welcome to attend; please see the agenda for more details.
URL:https://harstonparishcouncil.gov.uk/event/parish-council-meeting-12
LOCATION:Harston Village Hall\, 20 High Street\, Harston\, CB22 7PX\, United Kingdom
CATEGORIES:Parish Council Meetings
END:VEVENT
BEGIN:VEVENT
DTSTART;TZID=Europe/London:20230907T190000
DTEND;TZID=Europe/London:20230907T190000
DTSTAMP:20260425T013909
CREATED:20230901T110840Z
LAST-MODIFIED:20231011T091149Z
UID:4240-1694113200-1694113200@harstonparishcouncil.gov.uk
SUMMARY:Finance Committee Meeting
DESCRIPTION:
URL:https://harstonparishcouncil.gov.uk/event/finance-committee-meeting-20
LOCATION:Harston Village Hall\, 20 High Street\, Harston\, CB22 7PX\, United Kingdom
CATEGORIES:Parish Council Meetings
END:VEVENT
BEGIN:VEVENT
DTSTART;TZID=Europe/London:20230803T193000
DTEND;TZID=Europe/London:20230803T193000
DTSTAMP:20260425T013909
CREATED:20230822T090122Z
LAST-MODIFIED:20230907T185340Z
UID:4217-1691091000-1691091000@harstonparishcouncil.gov.uk
SUMMARY:Finance Committee Meeting
DESCRIPTION:
URL:https://harstonparishcouncil.gov.uk/event/finance-committee-meeting-19
LOCATION:Harston Village Hall\, 20 High Street\, Harston\, CB22 7PX\, United Kingdom
CATEGORIES:Parish Council Meetings
END:VEVENT
BEGIN:VEVENT
DTSTART;TZID=Europe/London:20230803T193000
DTEND;TZID=Europe/London:20230803T193000
DTSTAMP:20260425T013909
CREATED:20230728T070841Z
LAST-MODIFIED:20230907T185426Z
UID:4153-1691091000-1691091000@harstonparishcouncil.gov.uk
SUMMARY:Parish Council Meeting
DESCRIPTION:This meeting will be held in the Village Hall. Members of the public are welcome to attend; please see the agenda for more details.
URL:https://harstonparishcouncil.gov.uk/event/parish-council-meeting-11
LOCATION:Harston Village Hall\, 20 High Street\, Harston\, CB22 7PX\, United Kingdom
CATEGORIES:Parish Council Meetings
END:VEVENT
BEGIN:VEVENT
DTSTART;TZID=Europe/London:20230803T190000
DTEND;TZID=Europe/London:20230803T190000
DTSTAMP:20260425T013909
CREATED:20230728T070736Z
LAST-MODIFIED:20230728T070736Z
UID:4150-1691089200-1691089200@harstonparishcouncil.gov.uk
SUMMARY:Finance Committee Meeting
DESCRIPTION:
URL:https://harstonparishcouncil.gov.uk/event/finance-committee-meeting-18
LOCATION:Harston Village Hall\, 20 High Street\, Harston\, CB22 7PX\, United Kingdom
CATEGORIES:Parish Council Meetings
END:VEVENT
BEGIN:VEVENT
DTSTART;TZID=Europe/London:20230706T193000
DTEND;TZID=Europe/London:20230706T193000
DTSTAMP:20260425T013909
CREATED:20230703T080902Z
LAST-MODIFIED:20230814T093929Z
UID:4080-1688671800-1688671800@harstonparishcouncil.gov.uk
SUMMARY:Parish Council Meeting
DESCRIPTION:This meeting will be held in the Village Hall. Members of the public are welcome to attend; please see the agenda for more details.
URL:https://harstonparishcouncil.gov.uk/event/parish-council-meeting-10
LOCATION:Harston Village Hall\, 20 High Street\, Harston\, CB22 7PX\, United Kingdom
CATEGORIES:Parish Council Meetings
END:VEVENT
BEGIN:VEVENT
DTSTART;TZID=Europe/London:20230706T190000
DTEND;TZID=Europe/London:20230706T190000
DTSTAMP:20260425T013909
CREATED:20230703T081011Z
LAST-MODIFIED:20230814T094451Z
UID:4083-1688670000-1688670000@harstonparishcouncil.gov.uk
SUMMARY:Finance Committee Meeting
DESCRIPTION:
URL:https://harstonparishcouncil.gov.uk/event/finance-committee-meeting-17
LOCATION:Harston Village Hall\, 20 High Street\, Harston\, CB22 7PX\, United Kingdom
CATEGORIES:Parish Council Meetings
END:VEVENT
BEGIN:VEVENT
DTSTART;TZID=Europe/London:20230601T193000
DTEND;TZID=Europe/London:20230601T193000
DTSTAMP:20260425T013909
CREATED:20230531T085438Z
LAST-MODIFIED:20230707T093546Z
UID:3993-1685647800-1685647800@harstonparishcouncil.gov.uk
SUMMARY:Parish Council Meeting
DESCRIPTION:This meeting will be held in the Village Hall. Members of the public are welcome to attend; please see the agenda for more details.
URL:https://harstonparishcouncil.gov.uk/event/parish-council-meeting-9
LOCATION:Harston Village Hall\, 20 High Street\, Harston\, CB22 7PX\, United Kingdom
CATEGORIES:Parish Council Meetings
END:VEVENT
BEGIN:VEVENT
DTSTART;TZID=Europe/London:20230601T190000
DTEND;TZID=Europe/London:20230601T190000
DTSTAMP:20260425T013909
CREATED:20230531T085554Z
LAST-MODIFIED:20230707T093748Z
UID:3996-1685646000-1685646000@harstonparishcouncil.gov.uk
SUMMARY:Finance Committee Meeting
DESCRIPTION:
URL:https://harstonparishcouncil.gov.uk/event/finance-committee-meeting-16
LOCATION:Harston Village Hall\, 20 High Street\, Harston\, CB22 7PX\, United Kingdom
CATEGORIES:Parish Council Meetings
END:VEVENT
BEGIN:VEVENT
DTSTART;TZID=Europe/London:20230525T183000
DTEND;TZID=Europe/London:20230525T183000
DTSTAMP:20260425T013909
CREATED:20230523T085301Z
LAST-MODIFIED:20230523T085302Z
UID:3966-1685039400-1685039400@harstonparishcouncil.gov.uk
SUMMARY:Harston's Annual Parish Meeting
DESCRIPTION:Annual Parish Meeting Agenda 2023
URL:https://harstonparishcouncil.gov.uk/event/harstons-annual-parish-meeting
LOCATION:Harston Village Hall\, 20 High Street\, Harston\, CB22 7PX\, United Kingdom
CATEGORIES:Local Events
END:VEVENT
BEGIN:VEVENT
DTSTART;TZID=Europe/London:20230511T193000
DTEND;TZID=Europe/London:20230511T193000
DTSTAMP:20260425T013909
CREATED:20230508T094424Z
LAST-MODIFIED:20230508T094424Z
UID:3932-1683833400-1683833400@harstonparishcouncil.gov.uk
SUMMARY:Planning Committee Meeting
DESCRIPTION:
URL:https://harstonparishcouncil.gov.uk/event/planning-committee-meeting-6
LOCATION:Harston Village Hall\, 20 High Street\, Harston\, CB22 7PX\, United Kingdom
CATEGORIES:Parish Council Meetings
END:VEVENT
BEGIN:VEVENT
DTSTART;TZID=Europe/London:20230508T110000
DTEND;TZID=Europe/London:20230508T210000
DTSTAMP:20260425T013909
CREATED:20230228T135018Z
LAST-MODIFIED:20230228T135018Z
UID:3744-1683543600-1683579600@harstonparishcouncil.gov.uk
SUMMARY:The Big Help Out and Street Party for the Kings Coronation
DESCRIPTION:Coronation poster
URL:https://harstonparishcouncil.gov.uk/event/the-big-help-out-and-street-party-for-the-kings-coronation
LOCATION:Recreation Ground\, The Limes\, Harston\, Cambridge\, CB22 7QT\, United Kingdom
CATEGORIES:Local Events
END:VEVENT
BEGIN:VEVENT
DTSTART;TZID=Europe/London:20230504T193000
DTEND;TZID=Europe/London:20230504T193000
DTSTAMP:20260425T013909
CREATED:20230428T150206Z
LAST-MODIFIED:20230606T090330Z
UID:3899-1683228600-1683228600@harstonparishcouncil.gov.uk
SUMMARY:Parish Council Meeting
DESCRIPTION:This meeting will be held in the Village Hall. Members of the public are welcome to attend; please see the agenda for more details.
URL:https://harstonparishcouncil.gov.uk/event/parish-council-meeting-8
LOCATION:Harston Village Hall\, 20 High Street\, Harston\, CB22 7PX\, United Kingdom
CATEGORIES:Parish Council Meetings
END:VEVENT
BEGIN:VEVENT
DTSTART;TZID=Europe/London:20230504T190000
DTEND;TZID=Europe/London:20230504T190000
DTSTAMP:20260425T013909
CREATED:20230428T150321Z
LAST-MODIFIED:20230606T090118Z
UID:3902-1683226800-1683226800@harstonparishcouncil.gov.uk
SUMMARY:Finance Committee Meeting
DESCRIPTION:
URL:https://harstonparishcouncil.gov.uk/event/finance-committee-meeting-15
LOCATION:Harston Village Hall\, 20 High Street\, Harston\, CB22 7PX\, United Kingdom
CATEGORIES:Parish Council Meetings
END:VEVENT
BEGIN:VEVENT
DTSTART;TZID=Europe/London:20230406T193000
DTEND;TZID=Europe/London:20230406T213000
DTSTAMP:20260425T013909
CREATED:20220419T150104Z
LAST-MODIFIED:20220419T150104Z
UID:2669-1680809400-1680816600@harstonparishcouncil.gov.uk
SUMMARY:Full Council Meeting
DESCRIPTION:
URL:https://harstonparishcouncil.gov.uk/event/full-council-meeting-14
LOCATION:Harston Village Hall\, 20 High Street\, Harston\, CB22 7PX\, United Kingdom
CATEGORIES:Parish Council Meetings
END:VEVENT
BEGIN:VEVENT
DTSTART;TZID=Europe/London:20230406T193000
DTEND;TZID=Europe/London:20230406T193000
DTSTAMP:20260425T013909
CREATED:20230401T101116Z
LAST-MODIFIED:20230725T085207Z
UID:3827-1680809400-1680809400@harstonparishcouncil.gov.uk
SUMMARY:Parish Council Meeting
DESCRIPTION:This meeting will be held in the Village Hall. Members of the public are welcome to attend; please see the agenda for more details.
URL:https://harstonparishcouncil.gov.uk/event/parish-council-meeting-7
LOCATION:Harston Village Hall\, 20 High Street\, Harston\, CB22 7PX\, United Kingdom
CATEGORIES:Parish Council Meetings
END:VEVENT
BEGIN:VEVENT
DTSTART;TZID=Europe/London:20230406T190000
DTEND;TZID=Europe/London:20230406T190000
DTSTAMP:20260425T013909
CREATED:20230401T101050Z
LAST-MODIFIED:20230508T094755Z
UID:3824-1680807600-1680807600@harstonparishcouncil.gov.uk
SUMMARY:Finance Committee Meeting
DESCRIPTION:
URL:https://harstonparishcouncil.gov.uk/event/finance-committee-meeting-14
LOCATION:Harston Village Hall\, 20 High Street\, Harston\, CB22 7PX\, United Kingdom
CATEGORIES:Parish Council Meetings
END:VEVENT
BEGIN:VEVENT
DTSTART;TZID=Europe/London:20230302T193000
DTEND;TZID=Europe/London:20230302T213000
DTSTAMP:20260425T013909
CREATED:20220419T150015Z
LAST-MODIFIED:20220419T150015Z
UID:2666-1677785400-1677792600@harstonparishcouncil.gov.uk
SUMMARY:Full Council Meeting
DESCRIPTION:
URL:https://harstonparishcouncil.gov.uk/event/full-council-meeting-13
LOCATION:Harston Village Hall\, 20 High Street\, Harston\, CB22 7PX\, United Kingdom
CATEGORIES:Parish Council Meetings
END:VEVENT
BEGIN:VEVENT
DTSTART;TZID=Europe/London:20230302T193000
DTEND;TZID=Europe/London:20230302T193000
DTSTAMP:20260425T013909
CREATED:20230225T093417Z
LAST-MODIFIED:20230411T130122Z
UID:3731-1677785400-1677785400@harstonparishcouncil.gov.uk
SUMMARY:Parish Council Meeting
DESCRIPTION:This meeting will be held in the Village Hall. Members of the public are welcome to attend; please see the agenda for more details.
URL:https://harstonparishcouncil.gov.uk/event/parish-council-meeting-6
LOCATION:Harston Village Hall\, 20 High Street\, Harston\, CB22 7PX\, United Kingdom
CATEGORIES:Parish Council Meetings
END:VEVENT
BEGIN:VEVENT
DTSTART;TZID=Europe/London:20230302T190000
DTEND;TZID=Europe/London:20230302T190000
DTSTAMP:20260425T013909
CREATED:20230225T093513Z
LAST-MODIFIED:20230411T130200Z
UID:3734-1677783600-1677783600@harstonparishcouncil.gov.uk
SUMMARY:Finance Committee Meeting
DESCRIPTION:
URL:https://harstonparishcouncil.gov.uk/event/finance-committee-meeting-13
LOCATION:Harston Village Hall\, 20 High Street\, Harston\, CB22 7PX\, United Kingdom
CATEGORIES:Parish Council Meetings
END:VEVENT
BEGIN:VEVENT
DTSTART;TZID=Europe/London:20230209T193000
DTEND;TZID=Europe/London:20230209T193000
DTSTAMP:20260425T013909
CREATED:20230209T153645Z
LAST-MODIFIED:20230411T130530Z
UID:3697-1675971000-1675971000@harstonparishcouncil.gov.uk
SUMMARY:Planning Committee Meeting
DESCRIPTION:
URL:https://harstonparishcouncil.gov.uk/event/planning-committee-meeting-5
LOCATION:Harston Village Hall\, 20 High Street\, Harston\, CB22 7PX\, United Kingdom
CATEGORIES:Parish Council Meetings
END:VEVENT
BEGIN:VEVENT
DTSTART;TZID=Europe/London:20230202T193000
DTEND;TZID=Europe/London:20230202T213000
DTSTAMP:20260425T013909
CREATED:20220419T145920Z
LAST-MODIFIED:20220419T145920Z
UID:2663-1675366200-1675373400@harstonparishcouncil.gov.uk
SUMMARY:Full Council Meeting
DESCRIPTION:
URL:https://harstonparishcouncil.gov.uk/event/full-council-meeting-12
LOCATION:Harston Village Hall\, 20 High Street\, Harston\, CB22 7PX\, United Kingdom
END:VEVENT
BEGIN:VEVENT
DTSTART;TZID=Europe/London:20230202T193000
DTEND;TZID=Europe/London:20230202T193000
DTSTAMP:20260425T013909
CREATED:20230130T093910Z
LAST-MODIFIED:20230307T094720Z
UID:3675-1675366200-1675366200@harstonparishcouncil.gov.uk
SUMMARY:Parish Council Meeting
DESCRIPTION:This meeting will be held in the Village Hall. Members of the public are welcome to attend; please see the agenda for more details.
URL:https://harstonparishcouncil.gov.uk/event/parish-council-meeting-5
LOCATION:Harston Village Hall\, 20 High Street\, Harston\, CB22 7PX\, United Kingdom
CATEGORIES:Parish Council Meetings
END:VEVENT
END:VCALENDAR